BEGIN:VCALENDAR
VERSION:2.0
PRODID:-//Club Kali - ECPv6.15.17.1//NONSGML v1.0//EN
CALSCALE:GREGORIAN
METHOD:PUBLISH
X-ORIGINAL-URL:https://www.clubkali.co.uk
X-WR-CALDESC:Events for Club Kali
REFRESH-INTERVAL;VALUE=DURATION:PT1H
X-Robots-Tag:noindex
X-PUBLISHED-TTL:PT1H
BEGIN:VTIMEZONE
TZID:Europe/London
BEGIN:DAYLIGHT
TZOFFSETFROM:+0000
TZOFFSETTO:+0100
TZNAME:BST
DTSTART:20250330T010000
END:DAYLIGHT
BEGIN:STANDARD
TZOFFSETFROM:+0100
TZOFFSETTO:+0000
TZNAME:GMT
DTSTART:20251026T010000
END:STANDARD
BEGIN:DAYLIGHT
TZOFFSETFROM:+0000
TZOFFSETTO:+0100
TZNAME:BST
DTSTART:20260329T010000
END:DAYLIGHT
BEGIN:STANDARD
TZOFFSETFROM:+0100
TZOFFSETTO:+0000
TZNAME:GMT
DTSTART:20261025T010000
END:STANDARD
BEGIN:DAYLIGHT
TZOFFSETFROM:+0000
TZOFFSETTO:+0100
TZNAME:BST
DTSTART:20270328T010000
END:DAYLIGHT
BEGIN:STANDARD
TZOFFSETFROM:+0100
TZOFFSETTO:+0000
TZNAME:GMT
DTSTART:20271031T010000
END:STANDARD
END:VTIMEZONE
BEGIN:VEVENT
DTSTART;TZID=Europe/London:20260408T180000
DTEND;TZID=Europe/London:20260408T200000
DTSTAMP:20260420T020502
CREATED:20260404T134755Z
LAST-MODIFIED:20260404T134755Z
UID:2447-1775671200-1775678400@www.clubkali.co.uk
SUMMARY:Club Kali x Queer Britain Late!
DESCRIPTION:Club Kali x Queer Britain Late! \nAn exclusive invitation to enjoy the exhibition with Kali stories \nWe’re celebrating 30 yrs of Club Kali Heritage at Queer Britain!\nGrab your gratis ticket NOW by click through to OUTSavvy\nJoin us for an intimate evening with a range of Queer Britain’s heritage exhibits. Mingle and muse over Club Kali’s Where East Meets West Project showcasing 30years! Engage with Club Kali’s Living Library stories and chat over chai & samosas! \nWe’re also super excited to unveil the new Club Kali Podcast Series\, produced in collaboration with SocialBroadcasts – sharing Club Kali voices\, memories\, and heritage beyond the exhibition. \n\nAdvance Registration Required for each invited guest – capacity is limited.\nAfter registration if you cannot attend please cancel your ticket ASAP so that someone else can make use of it.\nPlease contact us ASAP if you require BSL Interpreters\nUsual Club Kali conditions apply: Respect LGBTQ+ space. Right to refuse entry reserved. Age 18+ event.This is a one-off event as part of Club Kali’s Where East Meets West project made possible with The National Lottery Heritage Fund. Thanks to National Lottery Players.\nMRRA (Management Reserves Right of Admission) at ALL Times.
URL:https://www.clubkali.co.uk/event/club-kali-x-queer-britain-late/
LOCATION:Queer Britain Museum\, 2 Granary Square\, London\, N1C 4BH\, United Kingdom
ATTACH;FMTTYPE=image/jpeg:https://www.clubkali.co.uk/wp-content/uploads/2026/04/Qb-late.jpg
ORGANIZER;CN="Club Kali":MAILTO:projects@clubkali.com
END:VEVENT
BEGIN:VEVENT
DTSTART;TZID=Europe/London:20260507T180000
DTEND;TZID=Europe/London:20260507T230000
DTSTAMP:20260420T020502
CREATED:20260404T160802Z
LAST-MODIFIED:20260404T160802Z
UID:2457-1778176800-1778194800@www.clubkali.co.uk
SUMMARY:Club Kali Legacy Launch & After Party
DESCRIPTION:Launch the Legacy\, stay for the Afterparty!\nJoin us for a special evening celebrating the archive launch and wrap of the Club Kali “Where East Meets West” Heritage Project – a vibrant new archive documenting 30 years of queer South Asian club life\, culture\, and community.\nThis celebration event brings together friends\, collaborators\, and community to mark the completion of the project and share the legacy of Club Kali. Explore the archive collection and other LGBTQ+ heritage materials\, join a guided archive tour led by the team at Bishopsgate Institute\, and hear from the people behind the project. \nAs the evening unfolds\, expect presentations\, speeches\, live performances\, and a short Bolly dance class before we shift gears into full celebration mode – with snacks\, drinks (alcoholic beverages from the cash bar)\, and a proper Club Kali dancefloor. \nAnd of course\, no Club Kali party would be complete without music – DJ Ritu will be on the decks to keep you moving. \nCome celebrate the stories\, the community\, and the legacy of Club Kali – Where East meets West\, on and off the dancefloor. ✨ \nAll welcome. \nFREE TICKETS will be released shortly!
URL:https://www.clubkali.co.uk/event/club-kali-legacy-launch-after-party/
LOCATION:Bishopsgate Institute\, 230 Bishopsgate\, London\, EC2M 4QH
ATTACH;FMTTYPE=image/jpeg:https://www.clubkali.co.uk/wp-content/uploads/2025/01/Club-Kali-Slide-2.jpg
ORGANIZER;CN="Club Kali":MAILTO:projects@clubkali.com
END:VEVENT
END:VCALENDAR